BEGIN:VCALENDAR
VERSION:2.0
PRODID:-//54.225.178.177//NONSGML kigkonsult.se iCalcreator 2.26.9//
CALSCALE:GREGORIAN
METHOD:PUBLISH
X-FROM-URL:http://gcd.state.nm.us
X-WR-TIMEZONE:America/Denver
BEGIN:VTIMEZONE
TZID:America/Denver
X-LIC-LOCATION:America/Denver
BEGIN:STANDARD
DTSTART:20201101T020000
TZOFFSETFROM:-0600
TZOFFSETTO:-0700
RDATE:20211107T020000
TZNAME:MST
END:STANDARD
BEGIN:DAYLIGHT
DTSTART:20210314T020000
TZOFFSETFROM:-0700
TZOFFSETTO:-0600
RDATE:20220313T020000
TZNAME:MDT
END:DAYLIGHT
END:VTIMEZONE
BEGIN:VEVENT
UID:ai1ec-1655@gcd.state.nm.us
DTSTAMP:20210501T060049Z
CATEGORIES;LANGUAGE=en-US:GCD
CONTACT:Jennie Lusk\; jlusk@nmag.gov
DESCRIPTION:Disability Summit Flier
DTSTART;TZID=America/Denver:20181001T090000
DTEND;TZID=America/Denver:20181001T170000
LOCATION:Albuquerque Convention Center @ 401 2nd Street NW\, Albuquerque\, 
 NM 87102
SEQUENCE:0
SUMMARY:2018 Disability Summit
URL:http://gcd.state.nm.us/event/2018-disability-summit/
X-COST-TYPE:free
X-ALT-DESC;FMTTYPE=text/html:<!DOCTYPE HTML PUBLIC '-//W3C//DTD HTML 3.2//E
 N'>\\n<HTML>\\n<HEAD>\\n<TITLE></TITLE>\\n</HEAD>\\n<BODY><div id='et-boc'
  class='et-boc'>\n			\n		<div class='et-l et-l--post'>\n			<div class='et_builder_
 inner_content et_pb_gutters2'>\n		<p><a href='/wp-content/uploads/2018/10/Fl
 ier-for-Disability-Summit.pdf'>Disability Summit Flier</a></p>\n\n		</div><!
 -- .et_builder_inner_content -->\n	</div><!-- .et-l -->\n	\n			\n		</div><!-- #et
 -boc -->\n		</BODY></HTML>
END:VEVENT
BEGIN:VEVENT
UID:ai1ec-1474@gcd.state.nm.us
DTSTAMP:20210501T060049Z
CATEGORIES;LANGUAGE=en-US:Events
CONTACT:
DESCRIPTION:
DTSTART;TZID=America/Denver:20181016T100000
DTEND;TZID=America/Denver:20181016T140000
LOCATION:Albuquerque Fair Grounds @ African American Pavilion
SEQUENCE:0
SUMMARY:Disability Employment Awareness Job Fair
URL:http://gcd.state.nm.us/event/disability-employment-awareness-job-fair/
X-COST-TYPE:free
X-ALT-DESC;FMTTYPE=text/html:<!DOCTYPE HTML PUBLIC '-//W3C//DTD HTML 3.2//E
 N'>\\n<HTML>\\n<HEAD>\\n<TITLE></TITLE>\\n</HEAD>\\n<BODY><div id='et-boc'
  class='et-boc'>\n			\n		<div class='et-l et-l--post'>\n			<div class='et_builder_
 inner_content et_pb_gutters2'><div class='et_pb_section et_pb_section_0 et
 _section_regular' >\n				\n				\n				\n				\n					<div class='et_pb_row et_pb_row_0'>\n				<div cla
 ss='et_pb_column et_pb_column_4_4 et_pb_column_0  et_pb_css_mix_blend_mode
 _passthrough et-last-child et_pb_column_empty'>\n				\n				\n				\n			</div> <!-- .et_pb_
 column -->\n				\n				\n			</div> <!-- .et_pb_row -->\n				\n				\n			</div> <!-- .et_pb_section
  -->		</div><!-- .et_builder_inner_content -->\n	</div><!-- .et-l -->\n	\n			\n		</
 div><!-- #et-boc -->\n		</BODY></HTML>
END:VEVENT
BEGIN:VEVENT
UID:ai1ec-1703@gcd.state.nm.us
DTSTAMP:20210501T060049Z
CATEGORIES;LANGUAGE=en-US:GCD
CONTACT:Jesse Armijo\; Jesse.Armijo@state.nm.us
DESCRIPTION:Flyer
DTSTART;TZID=America/Denver:20181116T090000
DTEND;TZID=America/Denver:20181116T150000
LOCATION:Western New Mexico University @ Phelps Dodge Building - 1st Floor
SEQUENCE:0
SUMMARY:Assistive Technology Workshop
URL:http://gcd.state.nm.us/event/assistive-technology-workshop/
X-COST-TYPE:free
X-ALT-DESC;FMTTYPE=text/html:<!DOCTYPE HTML PUBLIC '-//W3C//DTD HTML 3.2//E
 N'>\\n<HTML>\\n<HEAD>\\n<TITLE></TITLE>\\n</HEAD>\\n<BODY><div id='et-boc'
  class='et-boc'>\n			\n		<div class='et-l et-l--post'>\n			<div class='et_builder_
 inner_content et_pb_gutters2'>\n		<p><a href='http://gcd.state.nm.us/wp-cont
 ent/uploads/2018/10/HOW-AT-Silver-City-Flyer.pdf'>Flyer</a></p>\n\n		</div><
 !-- .et_builder_inner_content -->\n	</div><!-- .et-l -->\n	\n			\n		</div><!-- #e
 t-boc -->\n		</BODY></HTML>
END:VEVENT
BEGIN:VEVENT
UID:ai1ec-1849@gcd.state.nm.us
DTSTAMP:20210501T060049Z
CATEGORIES;LANGUAGE=en-US:Events\,GCD
CONTACT:Glenn Damian\; 505 426-2265\; gdamian@nmhu.edu
DESCRIPTION:HOW-AT_LasVegasNM_FLYER
DTSTART;TZID=America/Denver:20190228T113000
DTEND;TZID=America/Denver:20190228T153000
LOCATION:NM Highlands University @ Victoria de Sanchez Teacher Ed. Center R
 oom 305
SEQUENCE:0
SUMMARY:“Hands on Workshop” of Assistive Technology
URL:http://gcd.state.nm.us/event/hands-on-workshop-of-assistive-technology/
X-COST-TYPE:free
X-ALT-DESC;FMTTYPE=text/html:<!DOCTYPE HTML PUBLIC '-//W3C//DTD HTML 3.2//E
 N'>\\n<HTML>\\n<HEAD>\\n<TITLE></TITLE>\\n</HEAD>\\n<BODY><div id='et-boc'
  class='et-boc'>\n			\n		<div class='et-l et-l--post'>\n			<div class='et_builder_
 inner_content et_pb_gutters2'><div class='et_pb_section et_pb_section_1 et
 _section_regular' >\n				\n				\n				\n				\n					<div class='et_pb_row et_pb_row_1'>\n				<div cla
 ss='et_pb_column et_pb_column_4_4 et_pb_column_1  et_pb_css_mix_blend_mode
 _passthrough et-last-child'>\n				\n				\n				<div class='et_pb_module et_pb_text et_p
 b_text_0  et_pb_text_align_left et_pb_bg_layout_light'>\n				\n				\n				<div class='e
 t_pb_text_inner'><p><a href='http://gcd.state.nm.us/wp-content/uploads/201
 9/02/HOW-AT_LasVegasNM_FLYER.pdf'>HOW-AT_LasVegasNM_FLYER</a></p></div>\n			<
 /div> <!-- .et_pb_text -->\n			</div> <!-- .et_pb_column -->\n				\n				\n			</div> <!--
  .et_pb_row -->\n				\n				\n			</div> <!-- .et_pb_section -->		</div><!-- .et_builder_
 inner_content -->\n	</div><!-- .et-l -->\n	\n			\n		</div><!-- #et-boc -->\n		</BOD
 Y></HTML>
END:VEVENT
BEGIN:VEVENT
UID:ai1ec-1984@gcd.state.nm.us
DTSTAMP:20210501T060049Z
CATEGORIES;LANGUAGE=en-US:Events
CONTACT:Denise Balderas\; (505) 955-1136
DESCRIPTION:New Mexicans living with disabilities can now save money and ke
 ep their benefits!\nABLE NM Flyer\n 
DTSTART;TZID=America/Denver:20190819T160000
DTEND;TZID=America/Denver:20190819T180000
LOCATION:San Juan Center for Independence @ 1204 San Juan Bivd.\, Farmingto
 n\, New Mexico 87401
SEQUENCE:0
SUMMARY:Understanding ABLE NM
URL:http://gcd.state.nm.us/event/understanding-able-nm/
X-COST-TYPE:free
X-ALT-DESC;FMTTYPE=text/html:<!DOCTYPE HTML PUBLIC '-//W3C//DTD HTML 3.2//E
 N'>\\n<HTML>\\n<HEAD>\\n<TITLE></TITLE>\\n</HEAD>\\n<BODY><div id='et-boc'
  class='et-boc'>\n			\n		<div class='et-l et-l--post'>\n			<div class='et_builder_
 inner_content et_pb_gutters2'>\n		<p>New Mexicans living with disabilities c
 an now save money and keep their benefits!</p>\n<p><a href='http://gcd.sta
 te.nm.us/wp-content/uploads/2019/07/ABLENM-Flyer_Advisory-Council-Meeting-
 NMTAP-08.19.19.docx'>ABLE NM Flyer</a></p>\n<p> </p>\n\n		</div><!-- .et_bui
 lder_inner_content -->\n	</div><!-- .et-l -->\n	\n			\n		</div><!-- #et-boc -->\n
 		</BODY></HTML>
END:VEVENT
END:VCALENDAR
