BEGIN:VCALENDAR
VERSION:2.0
PRODID:-//54.225.178.177//NONSGML kigkonsult.se iCalcreator 2.26.9//
CALSCALE:GREGORIAN
METHOD:PUBLISH
X-FROM-URL:http://gcd.state.nm.us
X-WR-TIMEZONE:America/Denver
BEGIN:VTIMEZONE
TZID:America/Denver
X-LIC-LOCATION:America/Denver
BEGIN:STANDARD
DTSTART:20201101T020000
TZOFFSETFROM:-0600
TZOFFSETTO:-0700
RDATE:20211107T020000,20221106T020000
TZNAME:MST
END:STANDARD
BEGIN:DAYLIGHT
DTSTART:20210314T020000
TZOFFSETFROM:-0700
TZOFFSETTO:-0600
RDATE:20220313T020000
TZNAME:MDT
END:DAYLIGHT
END:VTIMEZONE
BEGIN:VEVENT
UID:ai1ec-1641@gcd.state.nm.us
DTSTAMP:20210521T010145Z
CATEGORIES;LANGUAGE=en-US:Adaptive Sports Calendar
CONTACT:Cat Ivie\; 505-265-1711 x4160\; catherine.ivie@va.gov
DESCRIPTION:The Recreation Hall (Bldg. 2) at the NM Veterans Affairs Health
 care System is offering veteran’s registered with the VA an all abilities 
 Yoga class. All equipment is provided and veterans do not have to be able 
 to get on the floor to participate. Our class is geared to both floor work
  and in chairs.\nClasses happen every Monday expect for holidays  10:30-no
 on.
DTSTART;TZID=America/Denver:20181001T103000
DTEND;TZID=America/Denver:20181001T120000
EXDATE;TZID=America/Denver:20181008T103000
EXDATE;TZID=America/Denver:20181112T103000
EXDATE;TZID=America/Denver:20190121T103000
EXDATE;TZID=America/Denver:20190218T103000
EXDATE;TZID=America/Denver:20190527T103000
EXDATE;TZID=America/Denver:20190902T103000
EXDATE;TZID=America/Denver:20191014T103000
EXDATE;TZID=America/Denver:20191111T103000
GEO:+35.056079;-106.578572
LOCATION:Recreation Hall\, NM VA HCS @ 1501 San Pedro Dr SE\, Albuquerque\,
  NM 87108\, USA
RRULE:FREQ=WEEKLY;UNTIL=20191231T235959Z
SEQUENCE:0
SUMMARY:Veteran’s Adaptive Yoga
URL:http://gcd.state.nm.us/event/veterans-adaptive-yoga/
X-COST-TYPE:free
X-ALT-DESC;FMTTYPE=text/html:<!DOCTYPE HTML PUBLIC '-//W3C//DTD HTML 3.2//E
 N'>\\n<HTML>\\n<HEAD>\\n<TITLE></TITLE>\\n</HEAD>\\n<BODY><div id='et-boc'
  class='et-boc'>\n			\n		<div class='et-l et-l--post'>\n			<div class='et_builder_
 inner_content et_pb_gutters2'>\n		<p>The Recreation Hall (Bldg. 2) at the NM
  Veterans Affairs Healthcare System is offering veteran’s registered with 
 the VA an all abilities Yoga class. All equipment is provided and veterans
  do not have to be able to get on the floor to participate. Our class is g
 eared to both floor work and in chairs.</p>\n<p>Classes happen every Monda
 y expect for holidays  10:30-noon.</p>\n\n		</div><!-- .et_builder_inner_con
 tent -->\n	</div><!-- .et-l -->\n	\n			\n		</div><!-- #et-boc -->\n		</BODY></HTML>
X-TAGS;LANGUAGE=en-US:VA\,Veteran\,Yoga
END:VEVENT
BEGIN:VEVENT
UID:ai1ec-1647@gcd.state.nm.us
DTSTAMP:20210521T010145Z
CATEGORIES;LANGUAGE=en-US:Adaptive Sports Calendar
CONTACT:Cat Ivie\; 505-256-1711 x4160\; catherine.ivie@va.gov\; http://proj
 ecthealingwaters.org/program-activities/
DESCRIPTION:The VA Recreation Program (Bldg. 2) in conjunction with Project
  Healing Waters is offering veteran’s the opportunity to learn to tie flie
 s and general fishing. In spring we will start teaching casting skills and
  start fishing opportunities. All equipment provided for veterans who do n
 ot have the equipment.
DTSTART;TZID=America/Denver:20181010T180000
DTEND;TZID=America/Denver:20181010T200000
EXDATE;TZID=America/Denver:20181024T180000
EXDATE;TZID=America/Denver:20181107T180000
EXDATE;TZID=America/Denver:20181121T180000
EXDATE;TZID=America/Denver:20181205T180000
GEO:+35.056079;-106.578572
LOCATION:NM VA HCS @ 1501 San Pedro Dr SE\, Albuquerque\, NM 87108\, USA
RRULE:FREQ=WEEKLY;UNTIL=20181219T235959Z;BYDAY=WE;WKST=MO
SEQUENCE:0
SUMMARY:Fly Tying
URL:http://gcd.state.nm.us/event/fly-tying/
X-COST-TYPE:free
X-ALT-DESC;FMTTYPE=text/html:<!DOCTYPE HTML PUBLIC '-//W3C//DTD HTML 3.2//E
 N'>\\n<HTML>\\n<HEAD>\\n<TITLE></TITLE>\\n</HEAD>\\n<BODY><div id='et-boc'
  class='et-boc'>\n			\n		<div class='et-l et-l--post'>\n			<div class='et_builder_
 inner_content et_pb_gutters2'>\n		<p>The VA Recreation Program (Bldg. 2) in 
 conjunction with Project Healing Waters is offering veteran’s the opportun
 ity to learn to tie flies and general fishing. In spring we will start tea
 ching casting skills and start fishing opportunities. All equipment provid
 ed for veterans who do not have the equipment.</p>\n\n		</div><!-- .et_build
 er_inner_content -->\n	</div><!-- .et-l -->\n	\n			\n		</div><!-- #et-boc -->\n		</
 BODY></HTML>
X-TAGS;LANGUAGE=en-US:fly fishing\,fly tying\,VA\,Veteran
END:VEVENT
END:VCALENDAR
