BEGIN:VCALENDAR
VERSION:2.0
PRODID:-//54.225.178.177//NONSGML kigkonsult.se iCalcreator 2.26.9//
CALSCALE:GREGORIAN
METHOD:PUBLISH
X-WR-CALNAME:NM Governor&#039\;s Commission on Disability
X-WR-CALDESC:
X-FROM-URL:http://gcd.state.nm.us
X-WR-TIMEZONE:America/Denver
BEGIN:VTIMEZONE
TZID:America/Denver
X-LIC-LOCATION:America/Denver
BEGIN:STANDARD
DTSTART:20201101T020000
TZOFFSETFROM:-0600
TZOFFSETTO:-0700
RDATE:20211107T020000,20221106T020000
TZNAME:MST
END:STANDARD
BEGIN:DAYLIGHT
DTSTART:20210314T020000
TZOFFSETFROM:-0700
TZOFFSETTO:-0600
RDATE:20220313T020000
TZNAME:MDT
END:DAYLIGHT
END:VTIMEZONE
BEGIN:VEVENT
UID:ai1ec-1984@gcd.state.nm.us
DTSTAMP:20210507T205020Z
CATEGORIES;LANGUAGE=en-US:Events
CONTACT:Denise Balderas\; (505) 955-1136
DESCRIPTION:New Mexicans living with disabilities can now save money and ke
 ep their benefits!\nABLE NM Flyer\n 
DTSTART;TZID=America/Denver:20190819T160000
DTEND;TZID=America/Denver:20190819T180000
LOCATION:San Juan Center for Independence @ 1204 San Juan Bivd.\, Farmingto
 n\, New Mexico 87401
SEQUENCE:0
SUMMARY:Understanding ABLE NM
URL:http://gcd.state.nm.us/event/understanding-able-nm/
X-COST-TYPE:free
X-ALT-DESC;FMTTYPE=text/html:<!DOCTYPE HTML PUBLIC '-//W3C//DTD HTML 3.2//E
 N'>\\n<HTML>\\n<HEAD>\\n<TITLE></TITLE>\\n</HEAD>\\n<BODY><div id='et-boc'
  class='et-boc'>\n			\n		<div class='et-l et-l--post'>\n			<div class='et_builder_
 inner_content et_pb_gutters2'>\n		<p>New Mexicans living with disabilities c
 an now save money and keep their benefits!</p>\n<p><a href='http://gcd.sta
 te.nm.us/wp-content/uploads/2019/07/ABLENM-Flyer_Advisory-Council-Meeting-
 NMTAP-08.19.19.docx'>ABLE NM Flyer</a></p>\n<p> </p>\n\n		</div><!-- .et_bui
 lder_inner_content -->\n	</div><!-- .et-l -->\n	\n			\n		</div><!-- #et-boc -->\n
 		</BODY></HTML>
END:VEVENT
END:VCALENDAR
