BEGIN:VCALENDAR
VERSION:2.0
PRODID:-//54.225.178.177//NONSGML kigkonsult.se iCalcreator 2.26.9//
CALSCALE:GREGORIAN
METHOD:PUBLISH
X-WR-CALNAME:NM Governor&#039\;s Commission on Disability
X-WR-CALDESC:
X-FROM-URL:http://gcd.state.nm.us
X-WR-TIMEZONE:America/Denver
BEGIN:VTIMEZONE
TZID:America/Denver
X-LIC-LOCATION:America/Denver
BEGIN:STANDARD
DTSTART:20201101T020000
TZOFFSETFROM:-0600
TZOFFSETTO:-0700
RDATE:20211107T020000,20221106T020000
TZNAME:MST
END:STANDARD
BEGIN:DAYLIGHT
DTSTART:20210314T020000
TZOFFSETFROM:-0700
TZOFFSETTO:-0600
RDATE:20220313T020000
TZNAME:MDT
END:DAYLIGHT
END:VTIMEZONE
BEGIN:VEVENT
UID:ai1ec-1963@gcd.state.nm.us
DTSTAMP:20210507T204954Z
CATEGORIES;LANGUAGE=en-US:Adaptive Sports Calendar
CONTACT:Kipp Watson\; (505) 675-0745.\; KW.chairball@gmail.com\; chairbaske
 tball.com
DESCRIPTION:Every single Wednesday from 5pm – 8pm from April – October 2019
  is open gym night\, anyone can participate or watch. We train and have sc
 rimmage games against each other.\nCall for more information on:\n\n\n\nTr
 aining for youth & adults\nBoot Camp\nKiddie League\n\n\n\n 
DTSTART;TZID=America/Denver:20190529T170000
DTEND;TZID=America/Denver:20190529T200000
GEO:+35.269667;-106.660946
LOCATION:The McDermott Athletic Center @ 801 Loma Colorado Blvd NE\, Rio Ra
 ncho\, NM 87124\, USA
RRULE:FREQ=WEEKLY;UNTIL=20191030T235959Z
SEQUENCE:0
SUMMARY:RoadRunner Basketball
URL:http://gcd.state.nm.us/event/roadrunner-basketball/
X-COST-TYPE:free
X-ALT-DESC;FMTTYPE=text/html:<!DOCTYPE HTML PUBLIC '-//W3C//DTD HTML 3.2//E
 N'>\\n<HTML>\\n<HEAD>\\n<TITLE></TITLE>\\n</HEAD>\\n<BODY><div id='et-boc'
  class='et-boc'>\n			\n		<div class='et-l et-l--post'>\n			<div class='et_builder_
 inner_content et_pb_gutters2'>\n		<p>Every single Wednesday from 5pm – 8pm f
 rom April – October 2019 is open gym night\, anyone can participate or wat
 ch. We train and have scrimmage games against each other.</p>\n<p>Call for
  more information on:</p>\n<ul>\n<li style='list-style-type: none\;'>\n<ul
 >\n<li>Training for youth & adults</li>\n<li>Boot Camp</li>\n<li>Kiddie Le
 ague</li>\n</ul>\n</li>\n</ul>\n<p> </p>\n<p style='margin: 0in 0in .2in 0
 in\;'>\n\n		</div><!-- .et_builder_inner_content -->\n	</div><!-- .et-l -->\n
 	\n			\n		</div><!-- #et-boc -->\n		</BODY></HTML>
END:VEVENT
END:VCALENDAR
