BEGIN:VCALENDAR
VERSION:2.0
PRODID:-//54.225.178.177//NONSGML kigkonsult.se iCalcreator 2.26.9//
CALSCALE:GREGORIAN
METHOD:PUBLISH
X-WR-CALNAME:NM Governor&#039\;s Commission on Disability
X-WR-CALDESC:
X-FROM-URL:http://gcd.state.nm.us
X-WR-TIMEZONE:America/Denver
BEGIN:VTIMEZONE
TZID:America/Denver
X-LIC-LOCATION:America/Denver
BEGIN:STANDARD
DTSTART:20201101T020000
TZOFFSETFROM:-0600
TZOFFSETTO:-0700
RDATE:20211107T020000,20221106T020000
TZNAME:MST
END:STANDARD
BEGIN:DAYLIGHT
DTSTART:20210314T020000
TZOFFSETFROM:-0700
TZOFFSETTO:-0600
RDATE:20220313T020000
TZNAME:MDT
END:DAYLIGHT
END:VTIMEZONE
BEGIN:VEVENT
UID:ai1ec-1934@gcd.state.nm.us
DTSTAMP:20210507T204932Z
CATEGORIES;LANGUAGE=en-US:Adaptive Sports Calendar
CONTACT:Jason Cline\; 505.570.5710 ext. 1\; jcline@adaptivesportsprogram.or
 g\; www.aspnm.org
DESCRIPTION:Come and join us for a beautiful day at Cattle Call Wall in Jem
 ez\, NM\n\nSeptember 21st  – 10 am to 2 pm\n\nWe will be enjoying a great 
 day of climbing\, fishing\, and archery.\n\nLunch will be served.\n\nFree 
 Event to athletes and family\n\n		\n	\n	\n			\n		\n		Tickets: https://adaptivesportsp
 rogram.z2systems.com/np/clients/adaptivesportsprogram/eventRegistration.js
 p?event=853&.
DTSTART;TZID=America/Denver:20190921T100000
DTEND;TZID=America/Denver:20190921T140000
LOCATION:Cattle Call Wall - Jemez\, NM
SEQUENCE:0
SUMMARY:Climbing/Archery/Fishing at the Cattle Call Wall
URL:http://gcd.state.nm.us/event/climbing-archery-fishing-at-the-cattle-cal
 l-wall/
X-COST-TYPE:external
X-ALT-DESC;FMTTYPE=text/html:<!DOCTYPE HTML PUBLIC '-//W3C//DTD HTML 3.2//E
 N'>\\n<HTML>\\n<HEAD>\\n<TITLE></TITLE>\\n</HEAD>\\n<BODY><div id='et-boc'
  class='et-boc'>\n			\n		<div class='et-l et-l--post'>\n			<div class='et_builder_
 inner_content et_pb_gutters2'>\n		<div>Come and join us for a beautiful day 
 at Cattle Call Wall in Jemez\, NM</div>\n<div></div>\n<div>September 21st 
  – 10 am to 2 pm</div>\n<div></div>\n<div>We will be enjoying a great day 
 of climbing\, fishing\, and archery.</div>\n<div></div>\n<div>Lunch will b
 e served.</div>\n<div></div>\n<div>Free Event to athletes and family</div>
 \n\n		</div><!-- .et_builder_inner_content -->\n	</div><!-- .et-l -->\n	\n			\n		</
 div><!-- #et-boc -->\n		<p>Tickets: <a class='ai1ec-ticket-url-exported' hre
 f='https://adaptivesportsprogram.z2systems.com/np/clients/adaptivesportspr
 ogram/eventRegistration.jsp?event=853&'>https://adaptivesportsprogram.z2sy
 stems.com/np/clients/adaptivesportsprogram/eventRegistration.jsp?event=853
 &</a>.</p></BODY></HTML>
X-TICKETS-URL:https://adaptivesportsprogram.z2systems.com/np/clients/adapti
 vesportsprogram/eventRegistration.jsp?event=853&
END:VEVENT
END:VCALENDAR
