BEGIN:VCALENDAR
VERSION:2.0
PRODID:-//54.225.178.177//NONSGML kigkonsult.se iCalcreator 2.26.9//
CALSCALE:GREGORIAN
METHOD:PUBLISH
X-WR-CALNAME:NM Governor&#039\;s Commission on Disability
X-WR-CALDESC:
X-FROM-URL:http://gcd.state.nm.us
X-WR-TIMEZONE:America/Denver
BEGIN:VTIMEZONE
TZID:America/Denver
X-LIC-LOCATION:America/Denver
BEGIN:STANDARD
DTSTART:20201101T020000
TZOFFSETFROM:-0600
TZOFFSETTO:-0700
RDATE:20211107T020000,20221106T020000
TZNAME:MST
END:STANDARD
BEGIN:DAYLIGHT
DTSTART:20210314T020000
TZOFFSETFROM:-0700
TZOFFSETTO:-0600
RDATE:20220313T020000
TZNAME:MDT
END:DAYLIGHT
END:VTIMEZONE
BEGIN:VEVENT
UID:ai1ec-1933@gcd.state.nm.us
DTSTAMP:20210507T204903Z
CATEGORIES;LANGUAGE=en-US:Adaptive Sports Calendar
CONTACT:Jason Cline\; 505.570.5710 ext. 1\; jcline@adaptivesportsprogram.or
 g\; www.aspnm.org
DESCRIPTION:<div id='et-boc' class='et-boc'>\n			\n		<div class='et-l et-l--post
 '>\n			<div class='et_builder_inner_content et_pb_gutters2'>\n		<div>Come and j
 oin us for our</div>\n<div>Noel Camborde Watersports Camp at Abiquiu Lake<
 /div>\n<div></div>\n<div>September 6th through September 8th</div>\n<div>(
 Friday – Sunday)</div>\n<div></div>\n<div>Come and camp with us for two ni
 ghts and join in the fun and exciting activities of water skiing\, sailing
 \, paddle boarding\, kayaking\, fishing\, and of course great food and cam
 araderie.</div>\n<div></div>\n<div></div>\n\n		</div><!-- .et_builder_inner_
 content -->\n	</div><!-- .et-l -->\n	\n			\n		</div><!-- #et-boc -->\n		<p>Tickets:
  <a class='ai1ec-ticket-url-exported' href='https://adaptivesportsprogram.
 z2systems.com/np/clients/adaptivesportsprogram/eventRegistration.jsp?event
 =863&'>https://adaptivesportsprogram.z2systems.com/np/clients/adaptivespor
 tsprogram/eventRegistration.jsp?event=863&</a>.</p>
DTSTART;TZID=America/Denver:20190906T090000
DTEND;TZID=America/Denver:20190908T150000
LOCATION:Abiquiu Lake
SEQUENCE:0
SUMMARY:Abiquiu Lake: Noel Camborde Memorial Adaptive Watersports Camp
URL:http://gcd.state.nm.us/event/abiquiu-lake-noel-camborde-memorial-adapti
 ve-watersports-camp/
X-COST-TYPE:external
X-COST:Please visit website
X-TICKETS-URL:https://adaptivesportsprogram.z2systems.com/np/clients/adapti
 vesportsprogram/eventRegistration.jsp?event=863&
END:VEVENT
END:VCALENDAR
