BEGIN:VCALENDAR
VERSION:2.0
PRODID:-//54.225.178.177//NONSGML kigkonsult.se iCalcreator 2.26.9//
CALSCALE:GREGORIAN
METHOD:PUBLISH
X-WR-CALNAME:NM Governor&#039\;s Commission on Disability
X-WR-CALDESC:
X-FROM-URL:http://gcd.state.nm.us
X-WR-TIMEZONE:America/Denver
BEGIN:VTIMEZONE
TZID:America/Denver
X-LIC-LOCATION:America/Denver
BEGIN:STANDARD
DTSTART:20211107T020000
TZOFFSETFROM:-0600
TZOFFSETTO:-0700
RDATE:20221106T020000
TZNAME:MST
END:STANDARD
BEGIN:DAYLIGHT
DTSTART:20210314T020000
TZOFFSETFROM:-0700
TZOFFSETTO:-0600
RDATE:20220313T020000,20230312T020000
TZNAME:MDT
END:DAYLIGHT
END:VTIMEZONE
BEGIN:VEVENT
UID:ai1ec-1881@gcd.state.nm.us
DTSTAMP:20210920T103026Z
CATEGORIES;LANGUAGE=en-US:Adaptive Sports Calendar
CONTACT:Sebastian Rael (Shaq)\; spuds@nmwheelchairsports.com
DESCRIPTION:<div id='et-boc' class='et-boc'>\n			\n		<div class='et-l et-l--post
 '>\n			<div class='et_builder_inner_content et_pb_gutters2'>\n		\n		</div>\n	</div
 >\n	\n			\n		</div>
DTSTART;TZID=America/Denver:20190323T100000
DTEND;TZID=America/Denver:20190323T110000
LOCATION:Jewish Community Center @ 5520 Wyoming Blvd. NE  Albuquerque\, NM 
  87109
RRULE:FREQ=WEEKLY;BYDAY=SA;WKST=MO
SEQUENCE:0
SUMMARY:WheelChair Basketball for youth
URL:http://gcd.state.nm.us/event/wheelchair-basketball-for-youth/
X-COST-TYPE:free
END:VEVENT
END:VCALENDAR
