BEGIN:VCALENDAR
VERSION:2.0
PRODID:-//54.225.178.177//NONSGML kigkonsult.se iCalcreator 2.26.9//
CALSCALE:GREGORIAN
METHOD:PUBLISH
X-WR-CALNAME:NM Governor&#039\;s Commission on Disability
X-WR-CALDESC:
X-FROM-URL:http://gcd.state.nm.us
X-WR-TIMEZONE:America/Denver
BEGIN:VTIMEZONE
TZID:America/Denver
X-LIC-LOCATION:America/Denver
BEGIN:STANDARD
DTSTART:20211107T020000
TZOFFSETFROM:-0600
TZOFFSETTO:-0700
RDATE:20221106T020000
TZNAME:MST
END:STANDARD
BEGIN:DAYLIGHT
DTSTART:20210314T020000
TZOFFSETFROM:-0700
TZOFFSETTO:-0600
RDATE:20220313T020000,20230312T020000
TZNAME:MDT
END:DAYLIGHT
END:VTIMEZONE
BEGIN:VEVENT
UID:ai1ec-1606@gcd.state.nm.us
DTSTAMP:20211003T003829Z
CATEGORIES;LANGUAGE=en-US:Adaptive Sports Calendar
CONTACT:Keshet Center for the Arts\; 505-224-9808\; info@keshetarts.org\; K
 eshetarts.org
DESCRIPTION:
DTSTART;TZID=America/Denver:20181004T163000
DTEND;TZID=America/Denver:20181004T173000
LOCATION:Keshet Dance  @ 4121 Cutler Ave Ne  Albuquerque\, NM 87110
RRULE:FREQ=WEEKLY;UNTIL=20181220T235959Z;BYDAY=TU,TH;WKST=MO
SEQUENCE:0
SUMMARY:Adaptive Dance
URL:http://gcd.state.nm.us/event/adaptive-dance/
X-COST-TYPE:free
X-ALT-DESC;FMTTYPE=text/html:<!DOCTYPE HTML PUBLIC '-//W3C//DTD HTML 3.2//E
 N'>\\n<HTML>\\n<HEAD>\\n<TITLE></TITLE>\\n</HEAD>\\n<BODY><div id='et-boc'
  class='et-boc'>\n			\n		<div class='et-l et-l--post'>\n			<div class='et_builder_
 inner_content et_pb_gutters2'>\n		\n		</div>\n	</div>\n	\n			\n		</div>\n		</BODY></HTM
 L>
END:VEVENT
END:VCALENDAR
